BEGIN:VCALENDAR
VERSION:2.0
PRODID:-//Kinesiologi-Akademiet - ECPv6.15.20//NONSGML v1.0//EN
CALSCALE:GREGORIAN
METHOD:PUBLISH
X-ORIGINAL-URL:https://kinesiologi-akademiet.dk
X-WR-CALDESC:Begivenheder for Kinesiologi-Akademiet
REFRESH-INTERVAL;VALUE=DURATION:PT1H
X-Robots-Tag:noindex
X-PUBLISHED-TTL:PT1H
BEGIN:VTIMEZONE
TZID:Europe/Copenhagen
BEGIN:DAYLIGHT
TZOFFSETFROM:+0100
TZOFFSETTO:+0200
TZNAME:CEST
DTSTART:20240331T010000
END:DAYLIGHT
BEGIN:STANDARD
TZOFFSETFROM:+0200
TZOFFSETTO:+0100
TZNAME:CET
DTSTART:20241027T010000
END:STANDARD
BEGIN:DAYLIGHT
TZOFFSETFROM:+0100
TZOFFSETTO:+0200
TZNAME:CEST
DTSTART:20250330T010000
END:DAYLIGHT
BEGIN:STANDARD
TZOFFSETFROM:+0200
TZOFFSETTO:+0100
TZNAME:CET
DTSTART:20251026T010000
END:STANDARD
BEGIN:DAYLIGHT
TZOFFSETFROM:+0100
TZOFFSETTO:+0200
TZNAME:CEST
DTSTART:20260329T010000
END:DAYLIGHT
BEGIN:STANDARD
TZOFFSETFROM:+0200
TZOFFSETTO:+0100
TZNAME:CET
DTSTART:20261025T010000
END:STANDARD
END:VTIMEZONE
BEGIN:VEVENT
DTSTART;VALUE=DATE:20250208
DTEND;VALUE=DATE:20250210
DTSTAMP:20260420T175213
CREATED:20240731T100844Z
LAST-MODIFIED:20240731T101928Z
UID:6383-1738972800-1739145599@kinesiologi-akademiet.dk
SUMMARY:Frederiksberg Meridiankursus 1. del af 2
DESCRIPTION:Meridian – Kursus\nDet strækker sig over 4 dage á 8  lektioner\, 32 timer i alt og 8 timers praktisk træning. Praktisk træning aftales med kursisterne\nMeridiankursus holdes over to weekender 1. og 2. del d.8-9.2.25 og 8.-9.3.25 \nPris: 4400 kr.\, inkl. forplejning.  (Depositum 400 kr. ved tilmelding.) \nMålgruppe: kinesiologer og andre alternative behandlere\, der kan teste med kinesiologi \nIndhold: Dette kursus er blevet til på baggrund af et udtalt ønske fra mange kursister: ”Vi vil så gerne lære noget mere om meridianer.” \nAllerede i Kropsafbalanceringskurserne arbejdes der med meridianerne\, men dette kursus går mere i dybden med de enkelte meridianer og deres respektive punkter. Der arbejdes med punkter på underarme og underben\, jf. den traditionelle kinesiske akupunktur\, som kun benytter disse punkter\, samt specifikke punkter andre steder på kroppen. \nDe gennemgående afbalanceringsteknikker er lyd og polaritet – to teknikker\, som er enkle og effektive. \nAfbalanceringerne styrker kroppens evne til selvhelbredelse\, og alle metoder anvendes i behandling af specifikke ubalancer og sygdomme. \nDer udleveres et testsæt med Schüsslers cellesalte samt en meridianplanche. \nStemmegaffel kan tilkøbes på kurset. Pris ca. 400 kr.\nAlle dage kl. 9-17 \nInstruktører: Mette Pedersen\nkinesiologi.mette@post3.tele.dk\n42614124 \nKurset er godkendt af brancheforeningen Danske Kinesiologer. \nDanske Kinesiologer
URL:https://kinesiologi-akademiet.dk/event/frederiksberg-meridiankursus-1-del-af-2-sammenhaengende/
LOCATION:Frederiksberg\, Roskildevej 46\, Frederiksberg\, 2000
ORGANIZER;CN="Mette Pedersen":MAILTO:kinesiologi.mette@post3.tele.dk
END:VEVENT
END:VCALENDAR