BEGIN:VCALENDAR
VERSION:2.0
PRODID:-//Kinesiologi-Akademiet - ECPv6.15.20//NONSGML v1.0//EN
CALSCALE:GREGORIAN
METHOD:PUBLISH
X-WR-CALNAME:Kinesiologi-Akademiet
X-ORIGINAL-URL:https://kinesiologi-akademiet.dk
X-WR-CALDESC:Begivenheder for Kinesiologi-Akademiet
REFRESH-INTERVAL;VALUE=DURATION:PT1H
X-Robots-Tag:noindex
X-PUBLISHED-TTL:PT1H
BEGIN:VTIMEZONE
TZID:Europe/Copenhagen
BEGIN:DAYLIGHT
TZOFFSETFROM:+0100
TZOFFSETTO:+0200
TZNAME:CEST
DTSTART:20220327T010000
END:DAYLIGHT
BEGIN:STANDARD
TZOFFSETFROM:+0200
TZOFFSETTO:+0100
TZNAME:CET
DTSTART:20221030T010000
END:STANDARD
BEGIN:DAYLIGHT
TZOFFSETFROM:+0100
TZOFFSETTO:+0200
TZNAME:CEST
DTSTART:20230326T010000
END:DAYLIGHT
BEGIN:STANDARD
TZOFFSETFROM:+0200
TZOFFSETTO:+0100
TZNAME:CET
DTSTART:20231029T010000
END:STANDARD
BEGIN:DAYLIGHT
TZOFFSETFROM:+0100
TZOFFSETTO:+0200
TZNAME:CEST
DTSTART:20240331T010000
END:DAYLIGHT
BEGIN:STANDARD
TZOFFSETFROM:+0200
TZOFFSETTO:+0100
TZNAME:CET
DTSTART:20241027T010000
END:STANDARD
END:VTIMEZONE
BEGIN:VEVENT
DTSTART;TZID=Europe/Copenhagen:20230106T090000
DTEND;TZID=Europe/Copenhagen:20230109T170000
DTSTAMP:20260422T160649
CREATED:20220314T205051Z
LAST-MODIFIED:20220314T205051Z
UID:4348-1672995600-1673283600@kinesiologi-akademiet.dk
SUMMARY:Kropsafbalancering 4 / KA 4 Thy/Mors
DESCRIPTION:Kropsafbalancering (KA) er uddannelsens grundkurser. Kurserne er på 4 x 2 dage (i alt 64 undervisningstimer) samt praktisk træning (I alt 16 timer). Du får viden om teorien bag kinesiologien\, og du lærer\, hvordan du bruger denne teori i praksis. Kurserne tages fortløbende\, og alle kan deltage. \nKA 4: Du lærer\, – at afbalancere meridianerne med farver\, lyd og kosttilskud (vitaminer\, mineraler\, blomstermedicin). Desuden er der nye tests for blandt andet ileocecalklap-ubalancer\, som er en ubakance i fordøjelsessystemet\, stressfrigørelse i fortid og i fremtid\, gangreflekser\, taleproblemer\, fødevareintolerance og en prioriteringstest\, der gør det muligt at korrigere netop de ubalancer\, som kroppen prioriterer højest her og nu. \nKurset er denne gang udvidet til 4 dage\, fra fredag til mandag\, begge dage inkl. Ud over KA 4 får du 16 timer superviseret træning. (Inkl. i kursusprisen) \nKursusrækken afsluttes med eksamen. \nForudsætninger for at deltage: At du har deltaget i KA/TFH 1\, 2 og 3. \nPris: 2200 kr. inkl. forplejning \nUnderviser: Kisser Bjerregaard.  \nhttp://www.kinesiologi-akademiet.dk \n 
URL:https://kinesiologi-akademiet.dk/event/kropsafbalancering-4-ka-4-thy-mors/
LOCATION:Nordjysk Motorik\, Kr. Koldsvej 50\, Erslev\, 7950
CATEGORIES:Kisser Bjerregård
ORGANIZER;CN="Kisser Bjerreg%C3%A5rd":MAILTO:kisser@kinesiologi.dk
END:VEVENT
END:VCALENDAR