BEGIN:VCALENDAR
VERSION:2.0
PRODID:-//Kinesiologi-Akademiet - ECPv6.15.20//NONSGML v1.0//EN
CALSCALE:GREGORIAN
METHOD:PUBLISH
X-ORIGINAL-URL:https://kinesiologi-akademiet.dk
X-WR-CALDESC:Begivenheder for Kinesiologi-Akademiet
REFRESH-INTERVAL;VALUE=DURATION:PT1H
X-Robots-Tag:noindex
X-PUBLISHED-TTL:PT1H
BEGIN:VTIMEZONE
TZID:Europe/Copenhagen
BEGIN:DAYLIGHT
TZOFFSETFROM:+0100
TZOFFSETTO:+0200
TZNAME:CEST
DTSTART:20230326T010000
END:DAYLIGHT
BEGIN:STANDARD
TZOFFSETFROM:+0200
TZOFFSETTO:+0100
TZNAME:CET
DTSTART:20231029T010000
END:STANDARD
BEGIN:DAYLIGHT
TZOFFSETFROM:+0100
TZOFFSETTO:+0200
TZNAME:CEST
DTSTART:20240331T010000
END:DAYLIGHT
BEGIN:STANDARD
TZOFFSETFROM:+0200
TZOFFSETTO:+0100
TZNAME:CET
DTSTART:20241027T010000
END:STANDARD
BEGIN:DAYLIGHT
TZOFFSETFROM:+0100
TZOFFSETTO:+0200
TZNAME:CEST
DTSTART:20250330T010000
END:DAYLIGHT
BEGIN:STANDARD
TZOFFSETFROM:+0200
TZOFFSETTO:+0100
TZNAME:CET
DTSTART:20251026T010000
END:STANDARD
END:VTIMEZONE
BEGIN:VEVENT
DTSTART;TZID=Europe/Copenhagen:20240427T100000
DTEND;TZID=Europe/Copenhagen:20240427T140000
DTSTAMP:20260421T102412
CREATED:20240413T111257Z
LAST-MODIFIED:20240413T153445Z
UID:6303-1714212000-1714226400@kinesiologi-akademiet.dk
SUMMARY:ENERGY MISMATCH - WORKSHOP THY/MORS
DESCRIPTION:  \nI vores dagligdag kommer vi i kontakt med mange forskellige substanser lige fra mad\, som vi indtager til stoffer som vi inhalerer eller berører\, til virus\, bakterier\, svampe og parasitter. \nKroppen skal beslutte sig for\, hvordan den vil håndtere disse substanser. \nNogle gange sker det\, at vores krop og energisystem mis-kategoriserer noget\, og det kan have alvorlige følger for vores helbred. \nDer er tre mulige udfald: \n\nNoget gavnligt miskategoriseres som skadeligt\nNoget skadeligt kategoriseres som gavnligt\nNoget bliver slet ikke kategoriseret\n\n  \n”Energy Mismatch” proceduren kan bruges til test og korrektion af kategoriseringsproblemer i forbindelse med f.eks.: \nFødevarer – tilsætningsstoffer – tandmaterialer – aminosyrer – mineraler – vitaminer – essentielle fedtsyrer – kosttilskud – bakterier og virusser – svampesporer – parasitter – vacciner – medicin* \nHormoner – enzymer – kropssubstanser – vævsprøver – blomsterremedier – homøopatiske remedier. \n*Vi tester ikke medicin\, men ved at udføre korrektionsproceduren kan vi mindske bivirkninger\, som er opstået fordi energisystemet ikke genkender medicinens energi-mønster korrekt. Dette betyder\, at når substansen bliver afbalanceret\, kan  klienten udnytte medicinens fordele og undgå bivirkningerne ved den medicin\, som kan være livsnødvendig. \nTeknikken kan også bruges som selvhjælpsteknik. \n 
URL:https://kinesiologi-akademiet.dk/event/kinesiology-mismatch-workshop-thy-mors/
LOCATION:Nordjysk Motorik\, Kr. Koldsvej 50\, Erslev\, 7950
CATEGORIES:Kisser Bjerregård
ORGANIZER;CN="Kisser Bjerreg%C3%A5rd":MAILTO:kisser@kinesiologi.dk
END:VEVENT
END:VCALENDAR