BEGIN:VCALENDAR
VERSION:2.0
PRODID:-//Kinesiologi-Akademiet - ECPv6.15.20//NONSGML v1.0//EN
CALSCALE:GREGORIAN
METHOD:PUBLISH
X-WR-CALNAME:Kinesiologi-Akademiet
X-ORIGINAL-URL:https://kinesiologi-akademiet.dk
X-WR-CALDESC:Begivenheder for Kinesiologi-Akademiet
REFRESH-INTERVAL;VALUE=DURATION:PT1H
X-Robots-Tag:noindex
X-PUBLISHED-TTL:PT1H
BEGIN:VTIMEZONE
TZID:Europe/Copenhagen
BEGIN:DAYLIGHT
TZOFFSETFROM:+0100
TZOFFSETTO:+0200
TZNAME:CEST
DTSTART:20230326T010000
END:DAYLIGHT
BEGIN:STANDARD
TZOFFSETFROM:+0200
TZOFFSETTO:+0100
TZNAME:CET
DTSTART:20231029T010000
END:STANDARD
BEGIN:DAYLIGHT
TZOFFSETFROM:+0100
TZOFFSETTO:+0200
TZNAME:CEST
DTSTART:20240331T010000
END:DAYLIGHT
BEGIN:STANDARD
TZOFFSETFROM:+0200
TZOFFSETTO:+0100
TZNAME:CET
DTSTART:20241027T010000
END:STANDARD
BEGIN:DAYLIGHT
TZOFFSETFROM:+0100
TZOFFSETTO:+0200
TZNAME:CEST
DTSTART:20250330T010000
END:DAYLIGHT
BEGIN:STANDARD
TZOFFSETFROM:+0200
TZOFFSETTO:+0100
TZNAME:CET
DTSTART:20251026T010000
END:STANDARD
END:VTIMEZONE
BEGIN:VEVENT
DTSTART;TZID=Europe/Copenhagen:20240303T090000
DTEND;TZID=Europe/Copenhagen:20240303T170000
DTSTAMP:20260421T135750
CREATED:20240114T104703Z
LAST-MODIFIED:20240114T162140Z
UID:6257-1709456400-1709485200@kinesiologi-akademiet.dk
SUMMARY:2. dag i Workshoppen i Psyko-spirituelle redskaber.  På Mors
DESCRIPTION:Workshop i Psyko-spirituelle redskaber – herunder Deep PEAT \nForudsætninger: At du har deltaget på workshoppen den 3. februar 2024. \nPå workshoppen lærer du flere af de sikre\, hurtige og meget\, meget effektive psyko-spirituelle redskaber\, som er udviklet af Zivorad Slavinski\, psykolog og moderne mystiker. Det er enkle og dybtgående metoder og redskaber\, som giver mennesket mulighed for at leve sit åndelige potentiale uden at være forhindret af destruktive psykologiske mønstre. \nÉn af teknikkerne er Deep PEAT\, som er en syntese af spirituelle forvandlingsteknikker\, psykosyntese/dybdepsykologi og TFT / EFT / TAT. PEAT står for \nP – Primordial     E – Energy    A – Activation    T – Transcendence\, som frit oversat betyder at afdække\, aktivere og overskride vores grundkonflikter. \nI PEAT arbejdes der med flere varianter af teknikker\, både til grupper og personligt. Det er vigtigt at vide\, at ALLE følelser er OK. \nDesuden arbejdes med en simpel og enkel metode\, som fjerner eller mindsker den negative ladning i traumebilleder. Billeder der vedvarende dukker op og aktiverer traumer. \nWorkshoppen er en afveksling mellem demonstration af metoderne på medkursister og partnerarbejde. \nWorkshoppen holdes over to lørdage med 4 ugers mellemrum: 3.februar og og 3. marts\, og er for alle interesserede. \n 
URL:https://kinesiologi-akademiet.dk/event/workshop-i-psyko-spirituelle-redskaber-2-loerdag-af-2-paa-mors/
LOCATION:Nordjysk Motorik\, Kr. Koldsvej 50\, Erslev\, 7950
CATEGORIES:Kisser Bjerregård
ORGANIZER;CN="Kisser Bjerreg%C3%A5rd":MAILTO:kisser@kinesiologi.dk
END:VEVENT
END:VCALENDAR