BEGIN:VCALENDAR
VERSION:2.0
PRODID:-//Kinesiologi-Akademiet - ECPv6.15.20//NONSGML v1.0//EN
CALSCALE:GREGORIAN
METHOD:PUBLISH
X-WR-CALNAME:Kinesiologi-Akademiet
X-ORIGINAL-URL:https://kinesiologi-akademiet.dk
X-WR-CALDESC:Begivenheder for Kinesiologi-Akademiet
REFRESH-INTERVAL;VALUE=DURATION:PT1H
X-Robots-Tag:noindex
X-PUBLISHED-TTL:PT1H
BEGIN:VTIMEZONE
TZID:Europe/Copenhagen
BEGIN:DAYLIGHT
TZOFFSETFROM:+0100
TZOFFSETTO:+0200
TZNAME:CEST
DTSTART:20240331T010000
END:DAYLIGHT
BEGIN:STANDARD
TZOFFSETFROM:+0200
TZOFFSETTO:+0100
TZNAME:CET
DTSTART:20241027T010000
END:STANDARD
BEGIN:DAYLIGHT
TZOFFSETFROM:+0100
TZOFFSETTO:+0200
TZNAME:CEST
DTSTART:20250330T010000
END:DAYLIGHT
BEGIN:STANDARD
TZOFFSETFROM:+0200
TZOFFSETTO:+0100
TZNAME:CET
DTSTART:20251026T010000
END:STANDARD
BEGIN:DAYLIGHT
TZOFFSETFROM:+0100
TZOFFSETTO:+0200
TZNAME:CEST
DTSTART:20260329T010000
END:DAYLIGHT
BEGIN:STANDARD
TZOFFSETFROM:+0200
TZOFFSETTO:+0100
TZNAME:CET
DTSTART:20261025T010000
END:STANDARD
END:VTIMEZONE
BEGIN:VEVENT
DTSTART;VALUE=DATE:20250308
DTEND;VALUE=DATE:20250310
DTSTAMP:20260420T124539
CREATED:20240731T101124Z
LAST-MODIFIED:20240731T102221Z
UID:6385-1741392000-1741564799@kinesiologi-akademiet.dk
SUMMARY:Frederiksberg Meridiankursus 2.del af kurset
DESCRIPTION:Meridian – Kursus\nDet strækker sig over 4 dage á 8  lektioner\, 32 timer i alt og 8 timers praktisk træning. Praktisk træning aftales med kursisterne\nMeridiankursus er et sammenhængende kursus over to weekender 1. del d.8-9.2.25 og 2. del  8.-9.3.25 \nPris: 4400 kr.\, inkl. forplejning.  (Depositum 400 kr. ved tilmelding.) \nMålgruppe: kinesiologer og andre alternative behandlere\, der kan teste med kinesiologi \nIndhold: Dette kursus er blevet til på baggrund af et udtalt ønske fra mange kursister: ”Vi vil så gerne lære noget mere om meridianer.” \nAllerede i Kropsafbalanceringskurserne arbejdes der med meridianerne\, men dette kursus går mere i dybden med de enkelte meridianer og deres respektive punkter. Der arbejdes med punkter på underarme og underben\, jf. den traditionelle kinesiske akupunktur\, som kun benytter disse punkter\, samt specifikke punkter andre steder på kroppen. \nDe gennemgående afbalanceringsteknikker er lyd og polaritet – to teknikker\, som er enkle og effektive. \nAfbalanceringerne styrker kroppens evne til selvhelbredelse\, og alle metoder anvendes i behandling af specifikke ubalancer og sygdomme. \nDer udleveres et testsæt med Schüsslers cellesalte samt en meridianplanche. \nStemmegaffel kan tilkøbes på kurset. Pris ca. 400 kr.\nAlle dage kl. 9-17 \nInstruktører: Mette Pedersen\nkinesiologi.mette@post3.tele.dk\n42614124 \nKurset er godkendt af brancheforeningen Danske Kinesiologer. \nDanske Kinesiologer
URL:https://kinesiologi-akademiet.dk/event/frederiksberg-meridiankursus-2-del-af-1-sammenhaengende-kursus/
LOCATION:Frederiksberg\, Roskildevej 46\, Frederiksberg\, 2000
ORGANIZER;CN="Mette Pedersen":MAILTO:kinesiologi.mette@post3.tele.dk
END:VEVENT
BEGIN:VEVENT
DTSTART;TZID=Europe/Copenhagen:20250313T170000
DTEND;TZID=Europe/Copenhagen:20250313T210000
DTSTAMP:20260420T124539
CREATED:20250108T104214Z
LAST-MODIFIED:20250108T104214Z
UID:6428-1741885200-1741899600@kinesiologi-akademiet.dk
SUMMARY:Ringe\, RESET 1
DESCRIPTION:RESET 1 – Balance i kæben – Balance i kroppen\nLær afspænding af kæben via dette selvhjælpsprogram – Rafferty Energy System of Easing the Temporomandibular joint\nRESET 1 er en simpel ikke-invasiv  4 timers workshop\, som afspænder kæbemusklerne og afbalancerer det vigtige kæbeled / Temporomandibular-led.\nRESET 1 – Balance i kæben – Balance i kroppen – ALLE  kan lære det – ingen krav om deltagerforudsætninger. \nRESET-systemet er udviklet af Philip Rafferty\, Kinesiolog fra Tasmanien\, Australien. RESET blev udviklet i 1995 som en enkel måde at afbalancere struktur\, energi og neurologi for menigmand og familien. \nPå grund af de kraftfulde resultater begyndte det snart at blive brugt af massører\, osteopater\, fysioterapeuter\, tandlæger\, kinesiologer og andre komplementære behandlere som en enkeltstående behandling eller som supplement til den behandling\, de i forvejen tilbød. \nOprindelig indgik det i kursusforløbet Kinergetics\, en kursusrække\, som kombinerer healende energi og kinesiologi. \nRESET 1 har 10 energi-positioner til musklerne rundt om hovedet og kæben. De bruges i en bestemt rækkefølge og dækker over et system\, der kan tage stress/spænding ud af de muskler\, sener og ligamenter\, der styrer kæbeleddet. \nVed at afslappe kæbemuskler\, sener og ligamenter kommer TMJ (kæbeleddet) på plads. Over 90 % af alle elektriske signaler fra hjernen og til musklerne og retur er under indflydelse af TMJ.\nDerfor er det så vigtigt at arbejde med kæbeleddet. Der er brug for optimal kommunikation mellem hjerne og krop. \nSelv om kun en brøkdel af kæbemusklerne er ude af balance\, vil det virke forstyrrende på de elektriske signaler til de andre muskler. \nRESET har hjulpet mange\, som har haft: \n\nSmerter\nTinnitus\nKæbespændinger\nAllergi\nFordøjelsesproblemer\nHovedpine\nTandpine\nNakke-skulder-smerter\nSøvnproblemer\nUro\nStress\n\nOver 30.000 kursister i over 20 lande er blevet undervist i RESET 1\, og workshoppen er oversat til 10 sprog. \nDet kan bruges til alle aldersklasser. Selv babyer\, som har problemer med amning\, søvn eller maven kan profitere af en RESET behandling. Det er også meget anbefalelsesværdigt at bruge RESET efter en tandlægekonsultation\, hvor kæben har været åben i lang tid. \nhttp://www.kinesiologi-akademiet.dk \nhttp://www.kinergetics-reset.dk \nhttp://www.kinergetics-reset.com \nhttp://www.danskekinesiologer.dk \n 
URL:https://kinesiologi-akademiet.dk/event/ringe-reset-1-3/
LOCATION:Skovvej 26\, Ringe\, Skovvej 26\, Espe\, Ringe\, Fyn\, 5750\, Danmark
ORGANIZER;CN="Birgit Nielsen":MAILTO:birgit@kinese.dk
END:VEVENT
BEGIN:VEVENT
DTSTART;TZID=Europe/Copenhagen:20250325T170000
DTEND;TZID=Europe/Copenhagen:20250325T210000
DTSTAMP:20260420T124539
CREATED:20250108T105217Z
LAST-MODIFIED:20250108T105217Z
UID:6432-1742922000-1742936400@kinesiologi-akademiet.dk
SUMMARY:Ringe\, Energy Mismatch workshop
DESCRIPTION:Energy Mismatch\nI vores dagligliv kommer vi i kontakt med mange forskellige substanser lige fra mad\, som vi indtager\, stoffer vi inhalerer eller berører\, til virus\, bakterier\, svampe og parasitter.\nKroppen skal beslutte sig for\, hvordan den vil håndtere disse substanser\, og det er en kritisk proces\, fordi det har betydning for de videre processer i kroppen\, og hvad der sker med den pågældende substans. \nMen nogle gange sker det\, at vores krop / energisystem mis-kategoriserer noget\, og det kan have fatale konsekvenser for vores helbred. \nDer er tre mulige udfald:\n1. Noget gavnligt miskategoriseres som skadeligt \n2. Noget skadeligt miskategoriseres som gavnligt \n3. Noget bliver slet ikke kategoriseret \nI det første tilfælde vil kroppen forsøge at blokere for adgang til systemet og hvis det ikke er muligt\, vil den forsøge at udskille substansen hurtigst muligt eller mindske optagelsen. \nI det andet tilfælde vil kroppen gøre sit bedste for at forbedre optagelsen af substansen\, også selv om den er skadelig. \nI det tredje tilfælde aner kroppen ikke\, hvad den skal gøre. \nAlle tre situationer kan føre til helbredsproblemer. \nKroppen skal også kategorisere og reagere passende på substanser\, som produceres af den selv. På mange måder kan man betragte kroppen som en kompliceret kemisk fabrik\, som producerer en bred vifte af kemiske stoffer. Nogle stoffer bruges der\, hvor de produceres\, andre produceres i ét område for derefter at blive ført hen til et organ eller blive fragtet rundt med blodstrømmen. \nKroppen producerer også spildprodukter\, såsom urin og ammoniak\, som et resultat af kemisk aktivitet. Disse skal enten genbruges eller udskilles. \n”Energy Mismatch” proceduren kan bruges til test og korrektion af kategoriserings-problemer i forbindelse med f.eks. :\n\nfødevarer\ntilsætningsstoffer\ntandmaterialer\naminosyrer\nMineraler\nvitaminer\nessentielle fedtsyrer\nkosttilskud\nbakterier og virusser\nsvampesporer\nparasitter\nvacciner\nmedicin ¤\nhormoner\nenzymer\nkropssubstanser\nvævsprøver\nblomsterremedier\nhomøopatiske remedier\n\nPris:  600 kr.\, inkl. manual og inkl. forplejning. \nhttps://kinesiologi-akademiet.dk
URL:https://kinesiologi-akademiet.dk/event/ringe-energy-mismatch-workshop/
LOCATION:Skovvej 26\, Ringe\, Skovvej 26\, Espe\, Ringe\, Fyn\, 5750\, Danmark
ORGANIZER;CN="Birgit Nielsen.":MAILTO:birgit@kinese.dk
END:VEVENT
END:VCALENDAR