BEGIN:VCALENDAR
VERSION:2.0
PRODID:-//Kinesiologi-Akademiet - ECPv6.15.20//NONSGML v1.0//EN
CALSCALE:GREGORIAN
METHOD:PUBLISH
X-ORIGINAL-URL:https://kinesiologi-akademiet.dk
X-WR-CALDESC:Begivenheder for Kinesiologi-Akademiet
REFRESH-INTERVAL;VALUE=DURATION:PT1H
X-Robots-Tag:noindex
X-PUBLISHED-TTL:PT1H
BEGIN:VTIMEZONE
TZID:Europe/Copenhagen
BEGIN:DAYLIGHT
TZOFFSETFROM:+0100
TZOFFSETTO:+0200
TZNAME:CEST
DTSTART:20240331T010000
END:DAYLIGHT
BEGIN:STANDARD
TZOFFSETFROM:+0200
TZOFFSETTO:+0100
TZNAME:CET
DTSTART:20241027T010000
END:STANDARD
BEGIN:DAYLIGHT
TZOFFSETFROM:+0100
TZOFFSETTO:+0200
TZNAME:CEST
DTSTART:20250330T010000
END:DAYLIGHT
BEGIN:STANDARD
TZOFFSETFROM:+0200
TZOFFSETTO:+0100
TZNAME:CET
DTSTART:20251026T010000
END:STANDARD
BEGIN:DAYLIGHT
TZOFFSETFROM:+0100
TZOFFSETTO:+0200
TZNAME:CEST
DTSTART:20260329T010000
END:DAYLIGHT
BEGIN:STANDARD
TZOFFSETFROM:+0200
TZOFFSETTO:+0100
TZNAME:CET
DTSTART:20261025T010000
END:STANDARD
END:VTIMEZONE
BEGIN:VEVENT
DTSTART;VALUE=DATE:20250920
DTEND;VALUE=DATE:20250921
DTSTAMP:20260420T021821
CREATED:20250806T131809Z
LAST-MODIFIED:20250806T132906Z
UID:6559-1758326400-1758412799@kinesiologi-akademiet.dk
SUMMARY:Brøndby RESET TMJ 1 og RESET TMJ 2
DESCRIPTION:Afbalancering af købeleddet med enkle teknikker\n4 timer med RESET TMJ 1 pris 800 kr.\n4 timer med RESET TMJ 2 pris 800 kr. \nForudsætning for RESET TMJ 2 er RESET TMJ 1\nUnderviser Mette Pedersen\nkinesiologi.mette@post3.tele.dk\n42614124\nKursus sted Rolandsvej 6\, 2605 Brøndby
URL:https://kinesiologi-akademiet.dk/event/reset-tmj-1-og-reset-tmj-2/
LOCATION:Brøndbyøster\, Rolandsvej 6\, Brøndby
ORGANIZER;CN="Mette Pedersen":MAILTO:kinesiologi.mette@post3.tele.dk
END:VEVENT
BEGIN:VEVENT
DTSTART;VALUE=DATE:20250927
DTEND;VALUE=DATE:20250929
DTSTAMP:20260420T021821
CREATED:20250406T104845Z
LAST-MODIFIED:20250717T141108Z
UID:6521-1758931200-1759103999@kinesiologi-akademiet.dk
SUMMARY:Brøndbyøster KA 1
DESCRIPTION:
URL:https://kinesiologi-akademiet.dk/event/ka-1/
LOCATION:Brøndbyøster\, Rolandsvej 6\, Brøndby
ORGANIZER;CN="Mette Pedersen":MAILTO:kinesiologi.mette@post3.tele.dk
END:VEVENT
BEGIN:VEVENT
DTSTART;TZID=Europe/Copenhagen:20250927T090000
DTEND;TZID=Europe/Copenhagen:20250928T170000
DTSTAMP:20260420T021821
CREATED:20250524T151535Z
LAST-MODIFIED:20250524T153955Z
UID:6535-1758963600-1759078800@kinesiologi-akademiet.dk
SUMMARY:Thy/Mors Meridian Kursus 1. af to weekender
DESCRIPTION:Meridian – Kursus over 4 dage á 8 lektioner\, 32 timer i alt og 8 timers praktisk træning. Praktisk træning aftales med kursisterne\nMeridian kursus holdes over to weekender 1. og 2. del d. 28. og 29.9.25 og 11. og 12.10.25 \nPris: 4400 kr.\, inkl. forplejning. (Depositum 400 kr. ved tilmelding.) prisen er for det samlede forløb på 40 timer. \nMålgruppe: kinesiologer og andre alternative behandlere\, der gerne vil arbejde med meridianer i behandling. \nIndhold: Dette kursus er blevet til på baggrund af et udtalt ønske fra mange kursister: ”Vi vil så gerne lære noget mere om meridianer.” \nAllerede i Kropsafbalanceringskurserne arbejdes der med meridianerne\, men dette kursus går mere i dybden med de enkelte meridianer og deres respektive punkter. Der arbejdes med punkter på underarme og underben\, jf. den traditionelle kinesiske akupunktur\, som kun benytter disse punkter\, samt specifikke punkter andre steder på kroppen. \nDe gennemgående afbalanceringsteknikker er lyd og polaritet – to teknikker\, som er enkle og effektive. \nDer arbejdes også med flere metoder\, bl.a. både egen og fælles lyd afbalancerer meridian systemet og giver et fantastisk flow\, samt sammenhængen mellem meridianer og chakraer højner frekvensen\, afbalancering med frekvensmedicin (Bach og Bush blomsteressenser) urter\, cellesalte og farvet lys.  \nAfbalanceringerne styrker kroppens evne til selvhelbredelse\, og alle metoder anvendes i behandling af specifikke ubalancer og sygdomme. \nDer udleveres et testsæt med Schüsslers cellesalte samt en meridianplanche. \nStemmegaffel kan tilkøbes på kurset. Pris ca. 400 kr.\nAlle dage kl. 9-17 \nInstruktører: Kisser Bjerregaard\nkisser@kinesiologi.dk\n30318043 \nKurset er godkendt af brancheforeningen Danske Kinesiologer. \nDanske Kinesiologer
URL:https://kinesiologi-akademiet.dk/event/thy-mors-meridian-kursus-1-af-to-weekender/
LOCATION:Nordjysk Motorik\, Kr. Koldsvej 50\, Erslev\, 7950
CATEGORIES:Kisser Bjerregård
ATTACH;FMTTYPE=image/jpeg:https://kinesiologi-akademiet.dk/wp-content/uploads/2018/09/meridiankursus-IMG_0057-rotated.jpg
ORGANIZER;CN="Kisser Bjerreg%C3%A5rd":MAILTO:kisser@kinesiologi.dk
END:VEVENT
END:VCALENDAR