BEGIN:VCALENDAR
VERSION:2.0
PRODID:-//Kinesiologi-Akademiet - ECPv6.15.20//NONSGML v1.0//EN
CALSCALE:GREGORIAN
METHOD:PUBLISH
X-WR-CALNAME:Kinesiologi-Akademiet
X-ORIGINAL-URL:https://kinesiologi-akademiet.dk
X-WR-CALDESC:Begivenheder for Kinesiologi-Akademiet
REFRESH-INTERVAL;VALUE=DURATION:PT1H
X-Robots-Tag:noindex
X-PUBLISHED-TTL:PT1H
BEGIN:VTIMEZONE
TZID:Europe/Copenhagen
BEGIN:DAYLIGHT
TZOFFSETFROM:+0100
TZOFFSETTO:+0200
TZNAME:CEST
DTSTART:20250330T010000
END:DAYLIGHT
BEGIN:STANDARD
TZOFFSETFROM:+0200
TZOFFSETTO:+0100
TZNAME:CET
DTSTART:20251026T010000
END:STANDARD
BEGIN:DAYLIGHT
TZOFFSETFROM:+0100
TZOFFSETTO:+0200
TZNAME:CEST
DTSTART:20260329T010000
END:DAYLIGHT
BEGIN:STANDARD
TZOFFSETFROM:+0200
TZOFFSETTO:+0100
TZNAME:CET
DTSTART:20261025T010000
END:STANDARD
BEGIN:DAYLIGHT
TZOFFSETFROM:+0100
TZOFFSETTO:+0200
TZNAME:CEST
DTSTART:20270328T010000
END:DAYLIGHT
BEGIN:STANDARD
TZOFFSETFROM:+0200
TZOFFSETTO:+0100
TZNAME:CET
DTSTART:20271031T010000
END:STANDARD
END:VTIMEZONE
BEGIN:VEVENT
DTSTART;VALUE=DATE:20260307
DTEND;VALUE=DATE:20260309
DTSTAMP:20260419T154623
CREATED:20250806T130814Z
LAST-MODIFIED:20250806T130814Z
UID:6557-1772841600-1773014399@kinesiologi-akademiet.dk
SUMMARY:KA 5 træningsweekend
DESCRIPTION:
URL:https://kinesiologi-akademiet.dk/event/ka-5-traeningsweekend/
LOCATION:Brøndbyøster\, Rolandsvej 6\, Brøndby
ORGANIZER;CN="Mette Pedersen":MAILTO:kinesiologi.mette@post3.tele.dk
END:VEVENT
BEGIN:VEVENT
DTSTART;TZID=Europe/Copenhagen:20260307T090000
DTEND;TZID=Europe/Copenhagen:20260308T170000
DTSTAMP:20260419T154623
CREATED:20240419T152049Z
LAST-MODIFIED:20260104T190132Z
UID:6336-1772874000-1772989200@kinesiologi-akademiet.dk
SUMMARY:Ringe - meridiankursus anden del
DESCRIPTION:Meridiankursus anden del\n\n\n\n\nMeridiankursus er for dig\, som gerne vil lære mere om meridianer og lære nye teknikker\, som kan kombineres med alt det\, du allerede ved og kan.  \nOBS! Dette kursus foregår over to weekender. Første weekend d.7.-8.februar og anden weekend d.7.-8.marts Superviseret træning d.15. marts. Prisen er for begge weekender og dag med superviseret træning. \nMålgruppe: kinesiologier og andre alternative behandlere\, som kan muskelteste. \nIndhold: Dette kursus er blevet til på baggrund af et udtalt ønske fra mange kursister: ”Vi vil så gerne lære noget mere om meridianer.” \nAllerede i Kropsafbalanceringskurserne arbejdes der med meridianerne\, men dette kursus går mere i dybden med de enkelte meridianer og deres respektive punkter. Der arbejdes med punkter på underarme og underben\, jf. den traditionelle kinesiske akupunktur\, som kun benytter disse punkter\, samt specifikke punkter andre steder på kroppen. \nDe gennemgående afbalanceringsteknikker på meridiankursus er lyd og polaritet – to teknikker\, som er enkle og effektive.\nDer arbejdes også med mange andre teknikker – cellesalte\, urter\, chakra\, farver\, magneter etc. Det er virkelig et rent slaraffenland\, og du vil gå hjem med en kæmpe værktøjskasse af teknikker\, som kan kombineres med alt det\, som du kan i forvejen. \nAfbalanceringerne styrker kroppens evne til selvhelbredelse\, og alle metoder anvendes i behandling af specifikke ubalancer og sygdomme. \nDer udleveres et testsæt med Schüsslers cellesalte samt en meridianplanche. \nArrangør: Kinesiologi-Akademiet. \nKurset er godkendt af brancheforeningen Danske Kinesiologer.  \n \nDet siger vores kursister om dette kursus:\n  \nDorte Windahl: \nDet har virkelig været en skøn weekend og et utroligt givtigt og brugbart kursus.\nHar i dag haft en dreng på 6 år\, som skulle have meridian afbalancering på at føle sig rolig og sikker.\nBlid og fin afbalancering 🙂 \nVibeke Schmidt Nielsen: \nJeg har meridian kurset ♥ det er fantastisk ♥ jeg bruger det flittigt ♥ det er mildt og dybt på samme tid ♥ og jeg kan tilføje\, at det både er konkret\, nemt at bruge\, faktuelt i forbindelse med de symptomer\, folk har og samtidig meget sanseligt. Kombinerer man med de forskellige støttemuligheder\, man lærer på kurset\, og det man har fra andre kurser\, kommer man virkelig langt. \nMaj-Britt Gulstad: \nDet er et rigtig dejligt kursus\, jeg har brugt det virkelig meget.
URL:https://kinesiologi-akademiet.dk/event/ringe-meridiankursus-anden-del/
LOCATION:Ringe\, Skovvej 26\, Ringe\, 5750
ORGANIZER;CN="Birgit Nielsen.":MAILTO:birgit@kinese.dk
END:VEVENT
BEGIN:VEVENT
DTSTART;TZID=Europe/Copenhagen:20260315T090000
DTEND;TZID=Europe/Copenhagen:20260315T170000
DTSTAMP:20260419T154623
CREATED:20240419T153650Z
LAST-MODIFIED:20250901T193239Z
UID:6338-1773565200-1773594000@kinesiologi-akademiet.dk
SUMMARY:Ringe superviseret træning Meridiankursus
DESCRIPTION:RINGE SUPERVISERET TRÆNING MERIDIANKURSUS\n\n\n\n\nMeridiankursus er for dig\, som gerne vil lære mere om meridianer og lære nye teknikker\, som kan kombineres med alt det\, du allerede ved og kan.  \nOBS! Dette kursus foregår over to weekender. Første weekend d.7.-8.februar og anden weekend d.7.-8.marts Superviseret træning d.15. marts. Kursusprisen dækker for alle fem dage.  \nMålgruppe: kinesiologier og andre alternative behandlere\, som kan muskelteste. \nIndhold: Dette kursus er blevet til på baggrund af et udtalt ønske fra mange kursister: ”Vi vil så gerne lære noget mere om meridianer.” \nAllerede i Kropsafbalanceringskurserne arbejdes der med meridianerne\, men dette kursus går mere i dybden med de enkelte meridianer og deres respektive punkter. Der arbejdes med punkter på underarme og underben\, jf. den traditionelle kinesiske akupunktur\, som kun benytter disse punkter\, samt specifikke punkter andre steder på kroppen. \nDE GENNEMGÅENDE AFBALANCERINGSTEKNIKKER ER LYD OG POLARITET – TO TEKNIKKER\, SOM ER ENKLE OG EFFEKTIVE.\nDer arbejdes også med mange andre teknikker – cellesalte\, urter\, chakra\, farver\, magneter etc. Det er virkelig et rent slaraffenland\, og du vil gå hjem med en kæmpe værktøjskasse af teknikker\, som kan kombineres med alt det\, som du kan i forvejen. \nAfbalanceringerne styrker kroppens evne til selvhelbredelse\, og alle metoder anvendes i behandling af specifikke ubalancer og sygdomme. \nDer udleveres et testsæt med Schüsslers cellesalte samt en meridianplanche. \nArrangør: Kinesiologi-Akademiet. \nKurset er godkendt af brancheforeningen Danske Kinesiologer.  \n \nDET SIGER VORES KURSISTER OM DETTE KURSUS:\n  \nDorte Windahl: \nDet har virkelig været en skøn weekend og et utroligt givtigt og brugbart kursus.\nHar i dag haft en dreng på 6 år\, som skulle have meridian afbalancering på at føle sig rolig og sikker.\nBlid og fin afbalancering 🙂 \nVibeke Schmidt Nielsen: \nJeg har meridian kurset ♥ det er fantastisk ♥ jeg bruger det flittigt ♥ det er mildt og dybt på samme tid ♥ og jeg kan tilføje\, at det både er konkret\, nemt at bruge\, faktuelt i forbindelse med de symptomer\, folk har og samtidig meget sanseligt. Kombinerer man med de forskellige støttemuligheder\, man lærer på kurset\, og det man har fra andre kurser\, kommer man virkelig langt. \nMaj-Britt Gulstad: \nDet er et rigtig dejligt kursus\, jeg har brugt det virkelig meget.
URL:https://kinesiologi-akademiet.dk/event/ringe-superviseret-traening-meridiankursus/
LOCATION:Ringe\, Skovvej 26\, Ringe\, 5750
ORGANIZER;CN="Birgit Nielsen.":MAILTO:birgit@kinese.dk
END:VEVENT
BEGIN:VEVENT
DTSTART;VALUE=DATE:20260321
DTEND;VALUE=DATE:20260322
DTSTAMP:20260419T154623
CREATED:20260102T120439Z
LAST-MODIFIED:20260102T120439Z
UID:6666-1774051200-1774137599@kinesiologi-akademiet.dk
SUMMARY:RESET 3
DESCRIPTION:Energetisk Korrektioner til Vagus – systemet\nDer er focus på\ntræthed\nsynke eller taleproblemer\nfødevare sentivitet\nmave -og fordøjelsesproblemer\nvægtøgning eller vægttab\nÆngstelse og depression\nhikke\ntinnitus\nhyppig vandladning\nblodtryk og blodsukker ubalance
URL:https://kinesiologi-akademiet.dk/event/reset-3/
LOCATION:Brøndbyøster\, Rolandsvej 6\, Brøndby
ORGANIZER;CN="Mette Pedersen":MAILTO:kinesiologi.mette@post3.tele.dk
END:VEVENT
END:VCALENDAR