BEGIN:VCALENDAR
VERSION:2.0
PRODID:-//Kinesiologi-Akademiet - ECPv6.15.20//NONSGML v1.0//EN
CALSCALE:GREGORIAN
METHOD:PUBLISH
X-ORIGINAL-URL:https://kinesiologi-akademiet.dk
X-WR-CALDESC:Begivenheder for Kinesiologi-Akademiet
REFRESH-INTERVAL;VALUE=DURATION:PT1H
X-Robots-Tag:noindex
X-PUBLISHED-TTL:PT1H
BEGIN:VTIMEZONE
TZID:Europe/Copenhagen
BEGIN:DAYLIGHT
TZOFFSETFROM:+0100
TZOFFSETTO:+0200
TZNAME:CEST
DTSTART:20250330T010000
END:DAYLIGHT
BEGIN:STANDARD
TZOFFSETFROM:+0200
TZOFFSETTO:+0100
TZNAME:CET
DTSTART:20251026T010000
END:STANDARD
BEGIN:DAYLIGHT
TZOFFSETFROM:+0100
TZOFFSETTO:+0200
TZNAME:CEST
DTSTART:20260329T010000
END:DAYLIGHT
BEGIN:STANDARD
TZOFFSETFROM:+0200
TZOFFSETTO:+0100
TZNAME:CET
DTSTART:20261025T010000
END:STANDARD
BEGIN:DAYLIGHT
TZOFFSETFROM:+0100
TZOFFSETTO:+0200
TZNAME:CEST
DTSTART:20270328T010000
END:DAYLIGHT
BEGIN:STANDARD
TZOFFSETFROM:+0200
TZOFFSETTO:+0100
TZNAME:CET
DTSTART:20271031T010000
END:STANDARD
END:VTIMEZONE
BEGIN:VEVENT
DTSTART;TZID=Europe/Copenhagen:20261003T090000
DTEND;TZID=Europe/Copenhagen:20261004T170000
DTSTAMP:20260420T003534
CREATED:20201209T200807Z
LAST-MODIFIED:20260102T154100Z
UID:4176-1791018000-1791133200@kinesiologi-akademiet.dk
SUMMARY:Ringe - Kinergetics 2
DESCRIPTION:Ringe – Kinergetics 2 – følelser og formater\nKinergetics 2\, det andet kursus i Kinergetics-rækken\, har bl.a. fokus på at arbejde med formater\, og det giver dig mulighed for at arbejde meget specifikt og dybt. Du vil opnå resultater\, som du ikke troede\, du var i stand til at opnå. \nPå det andet kursus går du også i gang med at finde følelser til hver enkelt afbalancering. At fjerne det følelsesmæssige stress\, der er opstået i forbindelse med en bestemt begivenhed\, gør afbalanceringen mere effektiv. Nu er der ikke længere tikkende bomber i systemet\, som venter på at eksplodere næste gang\, klienten møder en stressor\, som ligner den foregående. \nFølelser – find en følelse; der er 420 at vælge imellem\, og gå tilbage i tid til den oprindelige stressor. Lokalisér og afbalancér  de tilhørende omstændigheder. Din reaktion på stress bliver ændret \nStress – Find stress i relation til specifikke personer\, begivenheder eller alderstrin. \nChakra og følelser – finder nylige følelsesmæssige stressorer i klientens energifelter. Det giver en meget bred adgang til al stress\, som er sket for nylig. \nChakra og trossystem – Skaber adgang til generel stress fra klientens tros- system. \nTMJ undertrykkelse  – Find og afbalancér undertrykt stress i kæbemusklerne\, ligamenter\, sener etc. \nSphenoid og Coccyx – Disse er kritiske i forhold til strukturel integritet. \nHypertone muskler – Afbalanceringen fjerner spænding fra muskler\, sener\, ligamenter etc \nKorrektion af oversigtslister – Visuel scanning af oversigtslister og indsamling af information med efterfølgende korrektion af alt indsamlet materiale. \nGenerel formatering – Fjerner generel stress \nSpecifik formatering – leder efter stress i meget specifikke områder i kroppen. F.eks. afbalancerede en behandler sit blodtryk\, og det holdt meget\, meget længe. En anden fjernede menopause-symptomer hos sig selv og andre. Indeholder 34 sider med formater til flg. områder:  Nyrer\, blære\, hjerte\, immun/lymfesystem\, milt\, lunger\, fordøjelsessystemet\, bugspytkirtel. \nSynet  – ti forskellige afbalanceringer af dit syn. Nogle kursister har opnået langvarige forbedringer af deres syn. Her arbejdes der også med formater\, hvilket giver mulighed for at arbejde med problematikker ned i den mindste detalje. \nLæs mere her: http://kinergetics-reset.dk \nLæs mere her: https://kinesiologi-akademiet.dk \nLæs mere om kinesiologi her: https://danskekinesiologer.dk \nKinergetics er Kinesiologi og Healing i smuk kombination
URL:https://kinesiologi-akademiet.dk/event/ringe-kinergetics-2/
LOCATION:Skovvej 26\, Ringe\, Skovvej 26\, Espe\, Ringe\, Fyn\, 5750\, Danmark
ORGANIZER;CN="Birgit Nielsen":MAILTO:birgit@kinese.dk
END:VEVENT
BEGIN:VEVENT
DTSTART;TZID=Europe/Copenhagen:20261017T090000
DTEND;TZID=Europe/Copenhagen:20261018T170000
DTSTAMP:20260420T003534
CREATED:20220716T065150Z
LAST-MODIFIED:20260407T070241Z
UID:4476-1792227600-1792342800@kinesiologi-akademiet.dk
SUMMARY:Ringe TFH Touch for Health 1
DESCRIPTION:Touch for Health\nNår du lærer at lytte til kroppens visdom – og tage det første skridt på din kinesiologiske rejse \nTouch for Health er et grundlæggende og nænsomt kinesiologisk kursus for dig\, der mærker en længsel efter at forstå kroppens signaler på et dybere plan – og som ønsker at arbejde med balance\, energi og indre sammenhæng. \nKurset inviterer dig ind i et trygt rum\, hvor du lærer at føre en kærlig dialog med kroppen. Ikke for at presse forandring igennem\, men for at lytte og lade kroppens egen intelligens vise vejen. \nTouch for Health indgår som en del af en uddannelsen til kinesiolog og er samtidig et vigtigt skridt i din personlige og spirituelle udvikling. \nDu behøver ingen forudgående erfaring – kun villigheden til at være nærværende og nysgerrig. \n\nDette kursus kalder ofte på dig\, hvis du:\n\n\nmærker et indre kald mod at arbejde med krop\, energi og bevidsthed \n\n\ner nysgerrig på kroppens sprog og intuitionens visdom \n\n\nønsker at støtte både dig selv og andre i balance og heling \n\n\novervejer en uddannelse som kinesiolog – men vil starte blidt og i dit eget tempo \n\n\nstår et sted i livet\, hvor noget nyt gerne vil folde sig ud \n\n\nMange deltagere er kvinder 30+\, som befinder sig i et livsskifte og længes efter mere mening\, forankring og indre klarhed\, men alle kan deltage. \n\nHvad er Touch for Health?\nTouch for Health er et internationalt anerkendt kinesiologisk system\, der arbejder med: \n\n\nkroppens energibaner (meridianer) \n\n\nmuskeltest som en nænsom feedback fra kroppen \n\n\nbalancen mellem det fysiske\, følelsesmæssige og energetiske \n\n\nMetoden skaber mulighed for dyb forandring ved at genoprette flow og harmoni – både i kroppen og i bevidstheden. \n\nPå kurset vil du:\n✨ lære at bruge muskeltest som et intuitivt og respektfuldt redskab✨ opbygge en dybere kontakt til kroppens signaler✨ arbejde med energibalance og indre flow✨ opleve større ro\, klarhed og kropslig forankring✨ lægge et solidt fundament for videre arbejde med kinesiologi \nEfter kurset oplever mange\, at de står mere forankret i sig selv\, har større tillid til deres intuition og mærker en klarere fornemmelse af\, om kinesiologi er deres vej – både personligt og professionelt. \n\nUndervisningsform\n\n\nFysisk undervisning i små\, nærværende hold \n\n\nEt trygt\, respektfuldt og roligt læringsrum \n\n\nGuidning trin for trin \n\n\nVekselvirkning mellem praksis\, refleksion og deling \n\n\nGod tid til spørgsmål\, pauser og din individuelle proces \n\n\nMange beskriver Touch for Health som et vendepunkt – ikke fordi noget skal fixes\, men fordi noget falder på plads. \n\nPraktisk information\n📍 Sted: Skovvej 26\, Espe\, 5750 Ringe🗓 Dato:d.17.-18.oktober 2026 \n⏳ Varighed: 2 dage á 8 timer👥 Små hold – begrænset antal pladser \nKurset indgår som basismodul i en samlet uddannelse til kinesiolog. \n\nEr dette dit næste skridt?\nMåske har du længe mærket kaldet – men først nu er der plads\, indeni og i dit liv\, til at tage det første skridt. \nHvis du mærker et stille ja i kroppen\, er du hjertelig velkommen til at sikre dig en plads.Og hvis du er i tvivl\, er du altid velkommen til at kontakte mig for en uforpligtende samtale – nogle gange er det netop den\, der skaber klarhed. \n👉 Tilmelding: birgit@kinese.dk👉 Kontakt: 2343 3662 \nUdtalelser fra kursister:  \n“Tak for en skøn weekend\, du har en fantastisk måde at formidle på.” \n“Jeg har hørt\, folk valfarter til Espe for at blive uddannet hos dig – danmarks bedste kinesiolog” \n“Jeg er SÅ stolt af min uddannelse. Jeg elsker den energi der er i afbalanceringerne\, den proces klienterne går igennem og er dybt taknemmelig for at jeg må hjælpe dem på vej.”\nPraktisk info \nTFH Touch for Health dækker over 5 x 16 timer i alt\, 10 undervisningsdage (9-17) \nTouch for Health 1: d. 17.-18.oktober 2026 \nTouch for Health 2: d.14.-15.november 2026 \nTouch for Health 3: d.5.-6.december 2026 \nTouch for Health 4: d.23.-24.januar 2027 \nTouch for Health 5: d.27.-28.februar 2027 (superviseret træning og eksamen) \nLæs mere her:https://kinesiologi-akademiet.dk\nDet siger andre kursister: https://kinesiologi-akademiet.dk/udtalelser-fra-kursister/ \nLæs mere om Touch for Health her: http://www.touch4health.com \nLæs mere her på Kinesiologi-Akademiets hjemmeside: https://kinesiologi-akademiet.dk/kropsafbalancering-tfh-1-4/ \nLæs mere her: https://danskekinesiologer.dk
URL:https://kinesiologi-akademiet.dk/event/ringe-tfh-touch-for-health/
LOCATION:Skovvej 26\, Ringe\, Skovvej 26\, Espe\, Ringe\, Fyn\, 5750\, Danmark
ORGANIZER;CN="Birgit Nielsen":MAILTO:birgit@kinese.dk
END:VEVENT
BEGIN:VEVENT
DTSTART;TZID=Europe/Copenhagen:20261024T090000
DTEND;TZID=Europe/Copenhagen:20261025T170000
DTSTAMP:20260420T003534
CREATED:20201209T201339Z
LAST-MODIFIED:20260321T114709Z
UID:4178-1792832400-1792947600@kinesiologi-akademiet.dk
SUMMARY:Ringe - Kinergetics 3
DESCRIPTION:Ringe – Kinergetics 3 – muskler\, tungmetaller og candida\nKinergetics 3 – nu skal der arbejdes med muskler\, så det er en fordel at have lært Touch for Health. Men fortvivl ikke\, hvis du er ny. Der er god hjælp at hente i de videoer\, som Philip Rafferty har lavet til dette formål. Du vil sagtens kunne lære at teste musklerne alligevel. Og hvis du allerede har lært musklerne\, er dette god og givende repetition samt ny læring\, for du lærer også at teste i ekstension. \nDe fastlåste muskler er også vigtige at arbejde med. Det er de samme 16 muskler\, du arbejder med\, men på en hel ny måde. \nTungmetaller findes desværre overalt i dag. Derfor er det vigtigt at kunne afbalancere og hjælpe klienterne af med diverse belastninger og problemer\, som følger med tungmetaller. I afbalanceringen\, som du lærer\, arbejdes der med kviksølv\, men denne afbalancering kan bruges til alle former for tungmetaller. \nKursusindhold:\n  \nTest af 16 muskler i kontraktion og ekstension – 64 fotos\, 32 professionelle tegninger af muskler. \nFastlåste muskelkredsløb  – Teknisk kaldes disse muskler også  overfaciliterede muskler. Det er 10 gange vigtigere at korrigere disse muskler frem for muskler\, som ikke holder.  Denne teknik bruges i candida- og kviksølvs-afbalanceringerne. \nTungmetaller – Test af kviksølv i kroppen. Afbalanceringen styrker kroppen\, så den bedre kan håndtere tungmetaller. Der er nogle fantastiske klient-udsagn på den australske hjemmeside om forbedringer efter denne afbalancering. \nCandida  – I begyndelsen af 90’erne arbejdede Philip Rafferti med mere end 1000 klienter\, som alle havde candida. Han testede 45 muskler og udfordrede med en candida-ampul forskellige områder af kroppen. Efter at have testet hundredevis af klienter indså han\, at der var et mønster.  Alle\, som havde candida\, havde følelsesmæssigt stress\, der havde lagret sig i milt-meridianen og påvirkede dermed enten Midterste Trapezius eller Latissimus Dorsi. \nKlient-sessioner – Sådan arbejder du med klienter. Eksempler på sessioner med Hydrering og TMJ. \nLæs mere her: http://kinergetics-reset.dk \nLæs mere her: https://kinesiologi-akademiet.dk \nLæs mere om kinesiologi her: https://danskekinesiologer.dk \n \nKinergetics  er Kinesiologi og Healing i smuk kombination\n 
URL:https://kinesiologi-akademiet.dk/event/ringe-kinergetics-3/
LOCATION:Skovvej 26\, Ringe\, Skovvej 26\, Espe\, Ringe\, Fyn\, 5750\, Danmark
ORGANIZER;CN="Birgit Nielsen":MAILTO:birgit@kinese.dk
END:VEVENT
END:VCALENDAR