BEGIN:VCALENDAR
VERSION:2.0
PRODID:-//Kinesiologi-Akademiet - ECPv6.15.20//NONSGML v1.0//EN
CALSCALE:GREGORIAN
METHOD:PUBLISH
X-ORIGINAL-URL:https://kinesiologi-akademiet.dk
X-WR-CALDESC:Begivenheder for Kinesiologi-Akademiet
REFRESH-INTERVAL;VALUE=DURATION:PT1H
X-Robots-Tag:noindex
X-PUBLISHED-TTL:PT1H
BEGIN:VTIMEZONE
TZID:Europe/Copenhagen
BEGIN:DAYLIGHT
TZOFFSETFROM:+0100
TZOFFSETTO:+0200
TZNAME:CEST
DTSTART:20250330T010000
END:DAYLIGHT
BEGIN:STANDARD
TZOFFSETFROM:+0200
TZOFFSETTO:+0100
TZNAME:CET
DTSTART:20251026T010000
END:STANDARD
BEGIN:DAYLIGHT
TZOFFSETFROM:+0100
TZOFFSETTO:+0200
TZNAME:CEST
DTSTART:20260329T010000
END:DAYLIGHT
BEGIN:STANDARD
TZOFFSETFROM:+0200
TZOFFSETTO:+0100
TZNAME:CET
DTSTART:20261025T010000
END:STANDARD
BEGIN:DAYLIGHT
TZOFFSETFROM:+0100
TZOFFSETTO:+0200
TZNAME:CEST
DTSTART:20270328T010000
END:DAYLIGHT
BEGIN:STANDARD
TZOFFSETFROM:+0200
TZOFFSETTO:+0100
TZNAME:CET
DTSTART:20271031T010000
END:STANDARD
END:VTIMEZONE
BEGIN:VEVENT
DTSTART;TZID=Europe/Copenhagen:20261114T090000
DTEND;TZID=Europe/Copenhagen:20261115T170000
DTSTAMP:20260420T021829
CREATED:20190929T194413Z
LAST-MODIFIED:20260407T070811Z
UID:3783-1794646800-1794762000@kinesiologi-akademiet.dk
SUMMARY:Ringe - Touch for Health 2
DESCRIPTION:Touch for Health 2\nTouch for Health 2 bygger videre på det\, du lærte på det første kursus. Her læres yderligere 14 muskler og flere afbalanceringsteknikker\, så du i alt har 10 teknikker til rådighed i din værktøjskasse. \nDer arbejdes stadig ud fra 14 meridianer\, Central- og Guvernørmeridianen\, 10 organmeridianer og 2 funktionsmeridianer. De 12 sidste meridianer har flere muskler tilknyttet\, så efter kursus 2 vil du f.eks. kunne teste tre muskler\, som alle tre hører til Mavemeridianen. Det samme gælder for Miltmeridianen. Andre meridianer har kun 2 muskler\, som energetisk hører sammen med disse meridianer. \nDu lærer at arbejde med stressfrigørende teknikker i nutid og fremtid. \nDen kinesiske fem-element-teori\nDu lærer at afbalancere ud fra den kinesiske fem-element-teori\, så du med blot et punkt er i stand til at afbalancere alt\, hvad du har testet frem af ubalancer ved testning af musklerne. Det er dybt fascinerende\, at et punkt så at sige rydder bordet. Dette kan lade sig gøre\, fordi vi arbejder med over- og underenergi. For at kunne arbejde på denne måde er der brug for at lære alarmpunkterne at kende. \nTest af fødevarer\nPå dette kursus arbejder vi også med test af fødevarer. Du lærer at teste\, hvad der styrker din krop\, og hvad din krop afviser. Det er ikke en test\, som kan påvise allergi\, men med testen får du et helt personligt svar på\, hvad din krop her og nu magter at håndtere. Herefter vil du altid kunne teste\, hvad der er gavnligt for dig at indtage. Dette gælder også kosttilskud\, vitaminer og mineraler. \nPå det andet kursus lærer du yderligere at:\n\nafbalancere yderligere 14 muskler og bruge flere afbalanceringsmetoder\nbruge ’spørg muskel teknik’ for at finde den afbalancering\, der er i prioritet\nudvide din brug af traditionel kinesisk medicins energiafbalancering\, herunder 5-element loven\nuddybe og forbedre dine afbalanceringer med stressfrigørelsesteknik\, både i nutid og fremtid\nbruge muskeltest til at finde energigivende fødeemner m.v.\nbruge flere smertefrigørelsesteknikker\narbejde med specifikke integrationsbevægelser for at forbedre koordinering af bevægelse\n\nSe mere her: http://www.touch4health.com/index.html \nSe mere her: https://kinesiologi-akademiet.dk
URL:https://kinesiologi-akademiet.dk/event/touch-for-health-3/
LOCATION:Skovvej 26\, Ringe\, Skovvej 26\, Espe\, Ringe\, Fyn\, 5750\, Danmark
ORGANIZER;CN="Birgit Nielsen.":MAILTO:birgit@kinese.dk
END:VEVENT
BEGIN:VEVENT
DTSTART;TZID=Europe/Copenhagen:20261128T090000
DTEND;TZID=Europe/Copenhagen:20261129T170000
DTSTAMP:20260420T021829
CREATED:20210526T074121Z
LAST-MODIFIED:20260102T154631Z
UID:4276-1795856400-1795971600@kinesiologi-akademiet.dk
SUMMARY:Ringe - Kinergetics 4
DESCRIPTION:Ringe – Kinergetics 4\nKinergetics 4 er det kursus\, hvor energien stiger i frekvens. Afbalanceringsproceduren Fast Fix udvides\, så der tjekkes for endnu for flere ting. Nogle gange kan der være brug for optimal støtte\, for at kroppen kan fortælle endnu mere. \nPauselåsen bruges flittigt for at samle mere information og gøre billedet af klientens ubalancer tydeligere. Hydrering spiller stadig i en stor rolle i alle afbalanceringer\, for en hydreret krop er alfa og omega for et godt helbred. \nKursusindhold:\nHøjere Vibrationel Energi – Fjerner flere energiblokeringer. Korrektionerne er dybere nu. \nUdvidet Fast Fix – Korrektionsproceduren udvides nu med flere udfordringer. \nMere Power – Flere sikkerhedstjek. Vi har nu yderligere adgang til klientens biocomputer. \nMagnesium/mineral stofskifte – Lokalisering af stressfaktorer\, som blokerer for optagelsen af mineraler. \nAdgang til optimal støtte – Understøtter kroppen\, så den kan give mere information. Bringer også hidtil skjulte stressorer frem i lyset\, som kroppen tidligere ikke har haft nok energi til at håndtere. \nHydrering scanliste korrektion – dybere og hurtigere hydreringskorrektioner. \nAdgang til sekvenser – Tjek af mulige blokeringer over for healing. Her tilføjes mere information inden korrektionen. \nAffirmationer – Kinergetics fjerner stress fra affirmationer. Hvis affirmationer gentages bevidstløst\, betyder det\, at man gentager noget\, som man ikke tror på. Der er scanlister med over 250 affirmationer I 17 forskellige kategorier. \nSabotage – Vi skaber sabotager som beskyttelse. Bevidst siger vi måske\, at det er bedre at have elsket og mistet end aldrig nogensinde at have elsket\, men underbevidst ønsker vores hjerne\, at alting bare forløber gnidningsfrit uden op- og nedture. Vi finder den følelsesmæssige årsag bag sabotagen. \nElektrolyt korrektion – Energetisk afbalancering af elektrolytter. \nSikkerhedstjek – Et sidste tjek for at være sikker på\, at der ikke er sabotager eller blokeringer over for korrektionerne. \nScanlister – inkluderer masser af scanlister og korrektioner fra de andre kurser\, og det bliver derfor den primære manual\, som du arbejder med. \nLæs mere her: http://kinergetics-reset.dk \nLæs mere her: https://kinesiologi-akademiet.dk \nLæs mere her: http://kinergetics-reset.com \n \nkursusmanualer til Kinergetics 1-7\n 
URL:https://kinesiologi-akademiet.dk/event/ringe-kinergetics-4-2/
LOCATION:Skovvej 26\, Ringe\, Skovvej 26\, Espe\, Ringe\, Fyn\, 5750\, Danmark
ORGANIZER;CN="Birgit Nielsen":MAILTO:birgit@kinese.dk
END:VEVENT
END:VCALENDAR