BEGIN:VCALENDAR
VERSION:2.0
PRODID:-//Kinesiologi-Akademiet - ECPv6.15.20//NONSGML v1.0//EN
CALSCALE:GREGORIAN
METHOD:PUBLISH
X-ORIGINAL-URL:https://kinesiologi-akademiet.dk
X-WR-CALDESC:Begivenheder for Kinesiologi-Akademiet
REFRESH-INTERVAL;VALUE=DURATION:PT1H
X-Robots-Tag:noindex
X-PUBLISHED-TTL:PT1H
BEGIN:VTIMEZONE
TZID:Europe/Copenhagen
BEGIN:DAYLIGHT
TZOFFSETFROM:+0100
TZOFFSETTO:+0200
TZNAME:CEST
DTSTART:20260329T010000
END:DAYLIGHT
BEGIN:STANDARD
TZOFFSETFROM:+0200
TZOFFSETTO:+0100
TZNAME:CET
DTSTART:20261025T010000
END:STANDARD
BEGIN:DAYLIGHT
TZOFFSETFROM:+0100
TZOFFSETTO:+0200
TZNAME:CEST
DTSTART:20270328T010000
END:DAYLIGHT
BEGIN:STANDARD
TZOFFSETFROM:+0200
TZOFFSETTO:+0100
TZNAME:CET
DTSTART:20271031T010000
END:STANDARD
BEGIN:DAYLIGHT
TZOFFSETFROM:+0100
TZOFFSETTO:+0200
TZNAME:CEST
DTSTART:20280326T010000
END:DAYLIGHT
BEGIN:STANDARD
TZOFFSETFROM:+0200
TZOFFSETTO:+0100
TZNAME:CET
DTSTART:20281029T010000
END:STANDARD
END:VTIMEZONE
BEGIN:VEVENT
DTSTART;TZID=Europe/Copenhagen:20270227T090000
DTEND;TZID=Europe/Copenhagen:20270228T170000
DTSTAMP:20260420T073744
CREATED:20260407T071826Z
LAST-MODIFIED:20260407T071826Z
UID:6719-1803718800-1803834000@kinesiologi-akademiet.dk
SUMMARY:Ringe - Superviseret træning Touch for Health 1-4
DESCRIPTION:Ringe – Superviseret træning Touch for Health 1-4\nNu skal der trænes og øves og repeteres\, og søndag eftermiddag er der eksamen\, og så har du de første 80 timer af din uddannelse til Kinesiolog i hus. \nAlle studerende\, som har taget Touch for Health 1-4  er velkomne til at deltage i denne weekend. Måske fik du aldrig taget din træning eller eksamen. Så har du chancen nu. \nPak dine bøger og alt dit materiale og vær med til en hyggelig weekend\, hvor du får styr på muskler og afbalanceringer\, så du er klar til at gå til eksamen. \nPraktisk info\nTFH Touch for Health dækker over 4 x 16 timer i alt\, 8 undervisningsdage (9-17) \nTouch for Health 1: 17.-18.oktober 2026 \nTouch for Health 2: d.14.-15.november 2026 \nTouch for Health 3: d.5.-6.december 2026 \nTouch for Health 4: d.23.-24.januar 2027 \nTouch for Health 5: d.27.-28.februar 2027 (superviseret træning og eksamen) \nLæs mere her:https://kinesiologi-akademiet.dk \nDet siger andre kursister: https://kinesiologi-akademiet.dk/udtalelser-fra-kursister/ \nLæs mere om Touch for Health her: http://www.touch4health.com \nLæs mere her på Kinesiologi-Akademiets hjemmeside: https://kinesiologi-akademiet.dk/kropsafbalancering-tfh-1-4/ \nLæs mere her: https://danskekinesiologer.dk
URL:https://kinesiologi-akademiet.dk/event/ringe-superviseret-traening-touch-for-health-1-4-2/
LOCATION:Skovvej 26\, Ringe\, Skovvej 26\, Espe\, Ringe\, Fyn\, 5750\, Danmark
ORGANIZER;CN="Birgit Nielsen":MAILTO:birgit@kinese.dk
END:VEVENT
END:VCALENDAR