BEGIN:VCALENDAR
VERSION:2.0
PRODID:-//Kinesiologi-Akademiet - ECPv6.15.20//NONSGML v1.0//EN
CALSCALE:GREGORIAN
METHOD:PUBLISH
X-WR-CALNAME:Kinesiologi-Akademiet
X-ORIGINAL-URL:https://kinesiologi-akademiet.dk
X-WR-CALDESC:Begivenheder for Kinesiologi-Akademiet
REFRESH-INTERVAL;VALUE=DURATION:PT1H
X-Robots-Tag:noindex
X-PUBLISHED-TTL:PT1H
BEGIN:VTIMEZONE
TZID:Europe/Copenhagen
BEGIN:DAYLIGHT
TZOFFSETFROM:+0100
TZOFFSETTO:+0200
TZNAME:CEST
DTSTART:20260329T010000
END:DAYLIGHT
BEGIN:STANDARD
TZOFFSETFROM:+0200
TZOFFSETTO:+0100
TZNAME:CET
DTSTART:20261025T010000
END:STANDARD
BEGIN:DAYLIGHT
TZOFFSETFROM:+0100
TZOFFSETTO:+0200
TZNAME:CEST
DTSTART:20270328T010000
END:DAYLIGHT
BEGIN:STANDARD
TZOFFSETFROM:+0200
TZOFFSETTO:+0100
TZNAME:CET
DTSTART:20271031T010000
END:STANDARD
BEGIN:DAYLIGHT
TZOFFSETFROM:+0100
TZOFFSETTO:+0200
TZNAME:CEST
DTSTART:20280326T010000
END:DAYLIGHT
BEGIN:STANDARD
TZOFFSETFROM:+0200
TZOFFSETTO:+0100
TZNAME:CET
DTSTART:20281029T010000
END:STANDARD
END:VTIMEZONE
BEGIN:VEVENT
DTSTART;TZID=Europe/Copenhagen:20270501T090000
DTEND;TZID=Europe/Copenhagen:20270502T170000
DTSTAMP:20260420T130553
CREATED:20260407T073310Z
LAST-MODIFIED:20260407T073310Z
UID:6725-1809162000-1809277200@kinesiologi-akademiet.dk
SUMMARY:Ringe Touch for Health 3
DESCRIPTION:TFH Touch for Health 3 \nTouch for Health 3  er det tredje  kursus i kursusrækken TFH. \nPå TFH Touch for Health 3 lærer du at: \n\nafbalancere yderligere 14 muskler\nbruge flere afbalanceringsmetoder\, herunder fødevarer og farver\nbruge pauselås for at gøre afbalanceringen enklere\nfå glæde af afbalancering af gangmuskler\nafhjælpe stress i forbindelse med tidligere hændelser\nafhjælpe smerte og spændinger ved at afbalancere reaktive muskler\nafhjælpe kronisk smerte\n\nEksempler på kursusindholdet i TFH Touch for Health 3: \nPå TFH Touch for Health 3 lurer du som sagt yderligere 14 muskler\, så nu har du 42 muskler til din rådighed\, og det giver uanede muligheder for at gå i dybden og for at kunne arbejde med relationer. Intet i kroppen sker uafhængigt af noget andet. Derfor er det yderst vigtigt at kigge på samarbejdet mellem musklerne\, for det hænger jo sammen med samarbejdet mellem organerne. \nInden for kinesiologi har vi et begreb\, som hedder REAKTIVE MUSKLER. Det handler om musklernes samarbejde\, eller rettere sagt manglende samarbejde. Hvis en muskel ikke kan samarbejde med en anden muskel\, kan det skabe spændinger og smerte samt dysfunktion af de tilhørende organer og meridianer. Det kan lave virkelig stor ravage i kroppen. \nNår du via muskeltesten har identificeret den muskel\, som volder problemer og sætter andre muskler ud af spil\, så kan du nemt genoprette balancen ved at isolere musklerne fra hinanden og derved genoprette balancen i hele kroppen. Dette er så markant en ændring\, at det ofte kan mærkes med det samme hos klienten. \nPraktisk info\nTFH Touch for Health dækker over 5 x 16 timer i alt\, 10 undervisningsdage (9-17) \nTouch for Health 1: d. 13.-14.marts 2027 \nTouch for Health 2: d.3.-4.april 2027 \nTouch for Health 3: d.1.-2.maj 2027 \nTouch for Health 4: d.29.-30.maj 2027 \nTouch for Health 5: d.19.-20.juni 2027 (superviseret træning og eksamen) \nLæs mere her:https://kinesiologi-akademiet.dk \nDet siger andre kursister: https://kinesiologi-akademiet.dk/udtalelser-fra-kursister/ \nLæs mere om Touch for Health her: http://www.touch4health.com \nLæs mere her på Kinesiologi-Akademiets hjemmeside: https://kinesiologi-akademiet.dk/kropsafbalancering-tfh-1-4/ \nLæs mere her: https://danskekinesiologer.dk
URL:https://kinesiologi-akademiet.dk/event/ringe-touch-for-health-3/
LOCATION:Skovvej 26\, Ringe\, Skovvej 26\, Espe\, Ringe\, Fyn\, 5750\, Danmark
ORGANIZER;CN="Birgit Nielsen":MAILTO:birgit@kinese.dk
END:VEVENT
BEGIN:VEVENT
DTSTART;TZID=Europe/Copenhagen:20270529T090000
DTEND;TZID=Europe/Copenhagen:20270530T170000
DTSTAMP:20260420T130553
CREATED:20260418T143205Z
LAST-MODIFIED:20260418T145447Z
UID:6734-1811581200-1811696400@kinesiologi-akademiet.dk
SUMMARY:Ringe TFH Touch for Health 4
DESCRIPTION:TFH Touch for Health 4\nTouch for Health 4  er det fjerde og sidste  kursus i kursusrækken TFH. \nPå TFH Touch for Health 4 lærer du at: \n\n\n\nafbalancere 42 muskler både stående og liggende\, med brug af mange metoder\, herunder også lyd og Luo punkter\nafhjælpe fysisk og følelsesmæssig holdningsstress\narbejde med principperne i tibetansk energi via 8-tals-energien\nforstå teorien bag akupressur holdepunkter\nbruge metoder til at afhjælpe simpel smerte og jetlag (tidsforskydning)\nbruge din viden om reaktive muskler ved holdningsafbalanceringer\n\n\n\nEksempler på kursusindholdet i TFH  4: \nPå TFH 4 går vi dybere i arbejdet med 5-element-modellen. Du lærer Luo punkter\, som kan fordele energien mellem to meridianer i det samme element. Disse punkter er meget effektive\, og de har en dyb\, helbredende effekt på hele kroppen. Du vil også lære teorien bag akupressurpunkterne\, så du nu selv kan regne ud\, hvilke punkter du skal bruge for at kunne åbne og lukke for energien. \nDu lærer også en afbalancering\, som kan bruges til jetlag og andre former for tidsforskydning. De to gange om året\, hvor vi skifter mellem sommertid og normal tid skaber forstyrrelse i mange menneskers energisystemer\, og det kan du afhjælpe med denne afbalancering. Den er også yderst anvendelig til alle\, som har været i narkose. Under narkosen går det indre ur i stå\, og når man er ude af narkosen\, tror kroppen\, at tiden svarer til det tidspunkt\, hvor man kom i narkose. En lang operation på 6 timer kan derfor skabe uorden i kroppens fine\, indre tidsbalance og dermed organernes rytme. Hvis det ikke korrigeres\, kan det forsinke helingen og kroppens restitutionsevne. \nPraktisk info\nTouch for Health 1: d. 13.-14.marts 2027 \nTouch for Health 2: d.3.-4.april 2027 \nTouch for Health 3: d.1.-2.maj 2027 \nTouch for Health 4: d.29.-30.maj 2027 \nTouch for Health 5: d.19.-20.juni 2027 (superviseret træning og eksamen) \nLæs mere her:https://kinesiologi-akademiet.dk \nDet siger andre kursister: https://kinesiologi-akademiet.dk/udtalelser-fra-kursister/ \nLæs mere om Touch for Health her: http://www.touch4health.com \nLæs mere her på Kinesiologi-Akademiets hjemmeside: https://kinesiologi-akademiet.dk/kropsafbalancering-tfh-1-4/ \nLæs mere her: https://danskekinesiologer.dk
URL:https://kinesiologi-akademiet.dk/event/ringe-tfh-touch-for-health-4-3/
LOCATION:Skovvej 26\, Ringe\, Skovvej 26\, Espe\, Ringe\, Fyn\, 5750\, Danmark
ORGANIZER;CN="Birgit Nielsen":MAILTO:birgit@kinese.dk
END:VEVENT
END:VCALENDAR