BEGIN:VCALENDAR
VERSION:2.0
PRODID:-//Kinesiologi-Akademiet - ECPv6.15.20//NONSGML v1.0//EN
CALSCALE:GREGORIAN
METHOD:PUBLISH
X-ORIGINAL-URL:https://kinesiologi-akademiet.dk
X-WR-CALDESC:Begivenheder for Kinesiologi-Akademiet
REFRESH-INTERVAL;VALUE=DURATION:PT1H
X-Robots-Tag:noindex
X-PUBLISHED-TTL:PT1H
BEGIN:VTIMEZONE
TZID:Europe/Copenhagen
BEGIN:DAYLIGHT
TZOFFSETFROM:+0100
TZOFFSETTO:+0200
TZNAME:CEST
DTSTART:20210328T010000
END:DAYLIGHT
BEGIN:STANDARD
TZOFFSETFROM:+0200
TZOFFSETTO:+0100
TZNAME:CET
DTSTART:20211031T010000
END:STANDARD
BEGIN:DAYLIGHT
TZOFFSETFROM:+0100
TZOFFSETTO:+0200
TZNAME:CEST
DTSTART:20220327T010000
END:DAYLIGHT
BEGIN:STANDARD
TZOFFSETFROM:+0200
TZOFFSETTO:+0100
TZNAME:CET
DTSTART:20221030T010000
END:STANDARD
BEGIN:DAYLIGHT
TZOFFSETFROM:+0100
TZOFFSETTO:+0200
TZNAME:CEST
DTSTART:20230326T010000
END:DAYLIGHT
BEGIN:STANDARD
TZOFFSETFROM:+0200
TZOFFSETTO:+0100
TZNAME:CET
DTSTART:20231029T010000
END:STANDARD
END:VTIMEZONE
BEGIN:VEVENT
DTSTART;TZID=Europe/Copenhagen:20220430T090000
DTEND;TZID=Europe/Copenhagen:20220501T170000
DTSTAMP:20260423T031929
CREATED:20210526T193315Z
LAST-MODIFIED:20210526T193315Z
UID:4293-1651309200-1651424400@kinesiologi-akademiet.dk
SUMMARY:København - Kinergetics Unit 6
DESCRIPTION:København – Kinergetics 6\nKinergetics Unit 6 indeholder forskellige traume-korrektioner\, som finder og korrigerer traumer fra specifikke kropsområder. Der arbejdes med kendte traumer og med at finde ukendte traumer. \nKursisterne er efterfølgende i stand til at arbejde med traumer og få nærmest hver eneste traume ned på 2 ud fra en skala på 0-10. Ved at arbejde dybere er det også muligt at komme helt ned på 0\, så traumet helt er væk. \nI unit 6 arbejdes der også med traumer\, som har sat sig i specifikke kropsområder\, nyrerne f.eks. \nMed unikke teknikker er det muligt at finde og afbalancere så at sige ethvert traume\, som skaber forstyrrelser i kroppens energi. Ofte er det nødvendigt at søge yderligere information for at komme i dybden med et traume. Det kan bl.a. være i forhold til hormonsystemet\, som reagerer ved ethvert traume. \nKursets indhold bygger bl.a. på den nyeste forskning omkring celler\, udført af cellebiolog Bruce Lipton. Han har skrevet bogen Intelligente celler. \nKursusindhold:\nKorrektion af TMJ ( kæbeleddet) \nKorrektion af Kropssystemer \nKorrektion af kendte traumer \nKorrektion af ukendte traumer \nKorrektion af traumer i specifikke kropssystemer \nKorrektion af hormonsystemet \nInformation om stress og hormonsystemet \nLæs mere her: http://kinergetics-reset.dk \nLæs mere her: https://kinesiologi-akademiet.dk \nLæs mere her: http://kinergetics-reset.com \nLæs mere om kinesiologi her: https://danskekinesiologer.dk
URL:https://kinesiologi-akademiet.dk/event/koebenhavn-kinergetics-unit-6/
LOCATION:Roskildevej 46\, 2000 Frederiksberg
ORGANIZER;CN="Birgit Nielsen":MAILTO:birgit@kinese.dk
END:VEVENT
BEGIN:VEVENT
DTSTART;TZID=Europe/Copenhagen:20220519T170000
DTEND;TZID=Europe/Copenhagen:20220519T210000
DTSTAMP:20260423T031929
CREATED:20220409T195119Z
LAST-MODIFIED:20220409T195119Z
UID:4365-1652979600-1652994000@kinesiologi-akademiet.dk
SUMMARY:Aabyhøj\, RESET 2
DESCRIPTION:Aabyhøj\, RESET 2. \nEfter RESET 1 har du mulighed for at fortsætte på RESET 2\, som også er en 4 timers workshop. \nPå RESET 2 lærer du at behandle specifikke problemstillinger med de samme teknikker\, som du lærte på RESET. \nHver problemstilling klares med en behandling på 10-15 minutter. \nDer arbejdes med flg. problemstillinger: \n\nNyrer/dehydrering\nLåst kæbeled/tandbøjler/sphenoid\nKamp/flugt/binyrestress\nPiskesmæld\nBihuler/blære/ankler/fødder\nMultiple Sclerose\nSkuldre/TMJ ligamenter\nKronisk smerte/kronisk træthed/knæ\nKlikkende kæber/TMJ smerte\nTinnitus/neuralgi/søvn/hovedpine-migræne\nElektromagnetisk påvirkning\n\nLæs mere her: http://kinergetics-reset.dk \n\n\n\n\n\n\n\n\n\nIn 2012 Philip created RESET TMJ® 2 which has energetic corrections for specific imbalances e.g. Whiplash\, Frozen Shoulder\, Bruxism\, Lower Back Pain\, just to name a few. \nThis workshop concentrates on specific energetics protocols that may alleviate the following health conditions. \n\n\n\n\n\n\n\n\n\n\n\n\n\n\n\n\n\n\n\nAllergies\nArthritis\nBack problems\nBed-wetting\nBruxism\nChronic fatigue\nChronic pain\nClicking jaw\nConcentration\nDental work\nDetoxification\nDigestion\nEarache\nEar pressure\nFeet/Ankles\nGrinding Teeth\nHeadache\nHearing\nHip problems\nJaw bite/pain\nLearning/Dyslexia\nMigraines\nMuscular problems\nNeck problems\nRelaxation\nRheumatism\nShoulder problems\nSinus\nSleeplessness\nSnoring\nTinnitus\nTummy aches
URL:https://kinesiologi-akademiet.dk/event/aabyhoej-reset-2/
LOCATION:Dansk Akademi for Kropsterapi\, Elkjærvej 36\, Aabyhøj\, Denmark
ORGANIZER;CN="Birgit Nielsen":MAILTO:birgit@kinese.dk
END:VEVENT
END:VCALENDAR