BEGIN:VCALENDAR
VERSION:2.0
PRODID:-//Kinesiologi-Akademiet - ECPv6.15.20//NONSGML v1.0//EN
CALSCALE:GREGORIAN
METHOD:PUBLISH
X-WR-CALNAME:Kinesiologi-Akademiet
X-ORIGINAL-URL:https://kinesiologi-akademiet.dk
X-WR-CALDESC:Begivenheder for Kinesiologi-Akademiet
REFRESH-INTERVAL;VALUE=DURATION:PT1H
X-Robots-Tag:noindex
X-PUBLISHED-TTL:PT1H
BEGIN:VTIMEZONE
TZID:Europe/Copenhagen
BEGIN:DAYLIGHT
TZOFFSETFROM:+0100
TZOFFSETTO:+0200
TZNAME:CEST
DTSTART:20250330T010000
END:DAYLIGHT
BEGIN:STANDARD
TZOFFSETFROM:+0200
TZOFFSETTO:+0100
TZNAME:CET
DTSTART:20251026T010000
END:STANDARD
BEGIN:DAYLIGHT
TZOFFSETFROM:+0100
TZOFFSETTO:+0200
TZNAME:CEST
DTSTART:20260329T010000
END:DAYLIGHT
BEGIN:STANDARD
TZOFFSETFROM:+0200
TZOFFSETTO:+0100
TZNAME:CET
DTSTART:20261025T010000
END:STANDARD
BEGIN:DAYLIGHT
TZOFFSETFROM:+0100
TZOFFSETTO:+0200
TZNAME:CEST
DTSTART:20270328T010000
END:DAYLIGHT
BEGIN:STANDARD
TZOFFSETFROM:+0200
TZOFFSETTO:+0100
TZNAME:CET
DTSTART:20271031T010000
END:STANDARD
END:VTIMEZONE
BEGIN:VEVENT
DTSTART;TZID=Europe/Copenhagen:20260905T090000
DTEND;TZID=Europe/Copenhagen:20260906T170000
DTSTAMP:20260419T221557
CREATED:20221203T201307Z
LAST-MODIFIED:20260321T114754Z
UID:6026-1788598800-1788714000@kinesiologi-akademiet.dk
SUMMARY:Ringe Kinergetics 1
DESCRIPTION:Ringe – Kinergetics 1\nHar du lyst til at lære Kinesiologi og lyst til at lære at kombinere Kinesiologi og Healende energi ?\nSå har du mulighed for begge dele ved at tage  Kinergetics-kursusrækken\, som dækker over Kinergetics 1-6 samt Master Class. Philip Rafferty\, ophavsmanden til Kinergetics\, underviser selv på Master Class\, og der er dansk oversættelse. \nDette lærer du på Kinergetics 1\, det første kursus:\nVi tester for at finde ud af\, om du har nogen blokeringer over healende energi og korrigerer\, hvis det er nødvendigt. \nMuskeltestning – Grundlæggende færdigheder inden for muskeltestning\, alt hvad du har brug for at vide. \nIndledende test – Inden vi går i gang\, sikrer vi os\, at vi har tilladelse\, og at klienten er passende hydreret. \nKorrektions-positioner – Der bruges forskellige korrektions-positioner I Kinergetics. \nKæbe-stacking – På denne måde opsamler vi information. Det ser sjovt ud\, men det virker! \nHåndmodeller – Bruges til at fremme processe\, idet vi ved\, om korrektionen er rettet mod et organ\, en kirtel eller et chakra. \nHurtig Fix – Dette er den primære korrektion i Kinergetics. Klientens krop fortæller os\, hvor vi skal korrigere\, hvor længe og hvornår vi er færdige. \nStress-korrektion – Grundlæggende stress-korrektion\, ændrer din reaktion på stress \nSensitivitets-korrektion – Grundlæggende sensitivitets-korrektion\, ændrer din reaktion på ting\, du er sensitiv overfor. \nSelvtest – Lær at afbalancere dig selv! \nElektrolyt-korrektion – Energetisk korrektion af dine elektrolytter. \nHjerneintegrations-korrektion – Integration af dine to hjernehalvdele\, så du kan bruge hele din hjerne. \nTre kraftfulde smertekorrektioner – Findes alle tre i Unit 1. \nHydrerings-scanliste-korrektion – Det handler ikke om\, hvor meget vand du drikker. Det handler om\, hvor meget du optager. Korrektionen fjerner den stress\, som blokerer for optagelsen af vand. Dehydrering forårsager smerte! \nSmertekorrektion – Standard smertekorrektion. Den kan bruges\, som den er\, men den bruges bedst sammen med Hydrering og TMJ. \nSmerte TMJ (Masseter og Temporalis) – Den primære korrektion\, som blev brugt på 15 personer i løbet af en time til at reducere smerte\, som gik fra et gennemsnit på 5\,4 til under 1 !! Afbalancering af kæben afbalancerer hele kroppen. Over 90 % af kroppens muskler bliver påvirket af musklerne omkring kæben (TMJ). \nSe mere her på den danske hjemmeside: http://kinergetics-reset.dk \nSe mere her på den australske hjemmeside: http://kinergetics-reset.com \nKursusrækken udbydes af Kinesiologi-Akademiet: https://kinesiologi-akademiet.dk \nLæs mere om kinesiologi: https://danskekinesiologer.dk \nKinergetics 1 er Kinesiologi og Healing i smuk kombination
URL:https://kinesiologi-akademiet.dk/event/ringe-kinergetics-1/
LOCATION:Skovvej 26\, Ringe\, Skovvej 26\, Espe\, Ringe\, Fyn\, 5750\, Danmark
ORGANIZER;CN="Birgit Nielsen":MAILTO:birgit@kinese.dk
END:VEVENT
END:VCALENDAR